BEGIN:VCALENDAR
VERSION:2.0
PRODID:-//Seven Stones - ECPv6.15.20//NONSGML v1.0//EN
CALSCALE:GREGORIAN
METHOD:PUBLISH
X-WR-CALNAME:Seven Stones
X-ORIGINAL-URL:https://discoversevenstones.com
X-WR-CALDESC:Events for Seven Stones
REFRESH-INTERVAL;VALUE=DURATION:PT1H
X-Robots-Tag:noindex
X-PUBLISHED-TTL:PT1H
BEGIN:VTIMEZONE
TZID:UTC
BEGIN:STANDARD
TZOFFSETFROM:+0000
TZOFFSETTO:+0000
TZNAME:UTC
DTSTART:20240101T000000
END:STANDARD
END:VTIMEZONE
BEGIN:VEVENT
DTSTART;TZID=UTC:20250501T080000
DTEND;TZID=UTC:20250531T170000
DTSTAMP:20260424T101403
CREATED:20250418T010945Z
LAST-MODIFIED:20250418T011028Z
UID:9991-1746086400-1748710800@discoversevenstones.com
SUMMARY:Free Scattering in our Ossuary in May
DESCRIPTION:May is here and it’s a special month of reverence and remembrance at Seven Stones – Chatfield with both Mother’s Day and Memorial Day. One of our annual traditions began eight years ago with a single day for free scattering in our Canyon View Commons – Ossuary. \nIn 2020\, we extended our “give-back” window of free scattering in our Ossuary for the entire month of May. If you or someone you know is looking for a forever resting place for a loved one’s cremains we would be honored to serve you. \nFor more information\, please contact one of our Family Advisors at (303) 717-7117 or via email to info@discoversevenstones.com
URL:https://discoversevenstones.com/event/free-scattering-in-our-ossuary-in-may/
LOCATION:CO
ATTACH;FMTTYPE=image/jpeg:https://discoversevenstones.com/wp-content/uploads/2025/04/Free-Scattering-2025-Photo.jpg
END:VEVENT
BEGIN:VEVENT
DTSTART;TZID=UTC:20250509T103000
DTEND;TZID=UTC:20250509T130000
DTSTAMP:20260424T101403
CREATED:20250314T062004Z
LAST-MODIFIED:20250507T021623Z
UID:9940-1746786600-1746795600@discoversevenstones.com
SUMMARY:Gardens Temporarily Closed For Sharon Burton Placement Service
DESCRIPTION:Gardens Temporarily Closed During Memorial Services
URL:https://discoversevenstones.com/event/gardens-temporarily-closed-for-sharon-burton-placement-service/
LOCATION:Seven Stones Chatfield\, 9635 N Rampart Range Rd\, Littleton\, CO\, 80125\, United States
END:VEVENT
END:VCALENDAR