BEGIN:VCALENDAR
VERSION:2.0
PRODID:-//Seven Stones - ECPv6.15.18//NONSGML v1.0//EN
CALSCALE:GREGORIAN
METHOD:PUBLISH
X-ORIGINAL-URL:https://discoversevenstones.com
X-WR-CALDESC:Events for Seven Stones
REFRESH-INTERVAL;VALUE=DURATION:PT1H
X-Robots-Tag:noindex
X-PUBLISHED-TTL:PT1H
BEGIN:VTIMEZONE
TZID:UTC
BEGIN:STANDARD
TZOFFSETFROM:+0000
TZOFFSETTO:+0000
TZNAME:UTC
DTSTART:20240101T000000
END:STANDARD
END:VTIMEZONE
BEGIN:VEVENT
DTSTART;TZID=UTC:20250912T120000
DTEND;TZID=UTC:20250912T133000
DTSTAMP:20260424T020847
CREATED:20250903T214241Z
LAST-MODIFIED:20250904T201713Z
UID:10371-1757678400-1757683800@discoversevenstones.com
SUMMARY:Gardens Temporarily Closed For Dave Norton Placement
DESCRIPTION:Gardens Temporarily Closed During Memorial Services
URL:https://discoversevenstones.com/event/gardens-temporarily-closed-for-dave-norton-placement/
LOCATION:Seven Stones Chatfield\, 9635 N Rampart Range Rd\, Littleton\, CO\, 80125\, United States
END:VEVENT
END:VCALENDAR