BEGIN:VCALENDAR
VERSION:2.0
PRODID:-//Seven Stones - ECPv6.15.18//NONSGML v1.0//EN
CALSCALE:GREGORIAN
METHOD:PUBLISH
X-WR-CALNAME:Seven Stones
X-ORIGINAL-URL:https://discoversevenstones.com
X-WR-CALDESC:Events for Seven Stones
REFRESH-INTERVAL;VALUE=DURATION:PT1H
X-Robots-Tag:noindex
X-PUBLISHED-TTL:PT1H
BEGIN:VTIMEZONE
TZID:UTC
BEGIN:STANDARD
TZOFFSETFROM:+0000
TZOFFSETTO:+0000
TZNAME:UTC
DTSTART:20240101T000000
END:STANDARD
END:VTIMEZONE
BEGIN:VEVENT
DTSTART;TZID=UTC:20250924T103000
DTEND;TZID=UTC:20250924T113000
DTSTAMP:20260424T020716
CREATED:20250924T190259Z
LAST-MODIFIED:20250924T190318Z
UID:10426-1758709800-1758713400@discoversevenstones.com
SUMMARY:Gardens Temporarily Closed For Archie Williams Placement
DESCRIPTION:Gardens Temporarily Closed During Memorial Services
URL:https://discoversevenstones.com/event/gardens-temporarily-closed-for-archie-williams-placement/
LOCATION:Seven Stones Chatfield\, 9635 N Rampart Range Rd\, Littleton\, CO\, 80125\, United States
END:VEVENT
BEGIN:VEVENT
DTSTART;TZID=UTC:20250924T150000
DTEND;TZID=UTC:20250924T170000
DTSTAMP:20260424T020716
CREATED:20250903T211547Z
LAST-MODIFIED:20250903T211547Z
UID:10369-1758726000-1758733200@discoversevenstones.com
SUMMARY:Gardens Temporarily Closed For Paul Arendt Placement
DESCRIPTION:Gardens Temporarily Closed During Memorial Services
URL:https://discoversevenstones.com/event/gardens-temporarily-closed-for-paul-arendt-placement/
LOCATION:Seven Stones Chatfield\, 9635 N Rampart Range Rd\, Littleton\, CO\, 80125\, United States
END:VEVENT
BEGIN:VEVENT
DTSTART;TZID=UTC:20250924T180000
DTEND;TZID=UTC:20250924T190000
DTSTAMP:20260424T020716
CREATED:20250903T002004Z
LAST-MODIFIED:20250903T002041Z
UID:10353-1758736800-1758740400@discoversevenstones.com
SUMMARY:Yoga In The Gardens with Kristin
DESCRIPTION:Kristin’s moderate-level hatha yoga class is mindfully paced\, with introspection and an exploration of the subtle (energetic) body.\n \nWe are asking that you RSVP for each class you plan to attend (see information below) due to the popularity of these sessions.In addition to your yoga mat\, we recommend a towel\, water\, sunblock\, and layers as needed. Props\, such as a yoga block (or a book 2 inches thick)\, and/or a yoga strap (or a man’s tie) are encouraged.\n \nKristin’s class themes will be based on exploring our chakras (energy centers) from the ground up.\n \n$10/class – payable by Venmo\, cash or check\n \nWednesdays 6 pm-7 pm with Kristin Scott\nRSVP to Kristin kristinyogaclass@gmail.com\n \nIf we have a WEATHER CANCELLATION\, it will be communicated to those who have RSVPd.\nWe are very much looking forward to a wonderful Summer season in the gardens.\n \n 
URL:https://discoversevenstones.com/event/yoga-in-the-gardens-with-kristin-23/
LOCATION:Seven Stones Chatfield\, 9635 N Rampart Range Rd\, Littleton\, CO\, 80125\, United States
CATEGORIES:outdoor yoga
ATTACH;FMTTYPE=image/jpeg:https://discoversevenstones.com/wp-content/uploads/2025/05/Kristins-Yoga-classes.jpg
END:VEVENT
END:VCALENDAR