BEGIN:VCALENDAR
VERSION:2.0
PRODID:-//Seven Stones - ECPv6.15.18//NONSGML v1.0//EN
CALSCALE:GREGORIAN
METHOD:PUBLISH
X-WR-CALNAME:Seven Stones
X-ORIGINAL-URL:https://discoversevenstones.com
X-WR-CALDESC:Events for Seven Stones
REFRESH-INTERVAL;VALUE=DURATION:PT1H
X-Robots-Tag:noindex
X-PUBLISHED-TTL:PT1H
BEGIN:VTIMEZONE
TZID:UTC
BEGIN:STANDARD
TZOFFSETFROM:+0000
TZOFFSETTO:+0000
TZNAME:UTC
DTSTART:20240101T000000
END:STANDARD
END:VTIMEZONE
BEGIN:VEVENT
DTSTART;VALUE=DATE:20251225
DTEND;VALUE=DATE:20251229
DTSTAMP:20260423T165924
CREATED:20250114T041114Z
LAST-MODIFIED:20251021T220306Z
UID:9842-1766620800-1766966399@discoversevenstones.com
SUMMARY:Office Closed (Gardens Open) - Christmas Holiday
DESCRIPTION:
URL:https://discoversevenstones.com/event/office-closed-gardens-open-christmas-holiday-2/
END:VEVENT
END:VCALENDAR