BEGIN:VCALENDAR
VERSION:2.0
PRODID:-//Seven Stones - ECPv6.15.18//NONSGML v1.0//EN
CALSCALE:GREGORIAN
METHOD:PUBLISH
X-WR-CALNAME:Seven Stones
X-ORIGINAL-URL:https://discoversevenstones.com
X-WR-CALDESC:Events for Seven Stones
REFRESH-INTERVAL;VALUE=DURATION:PT1H
X-Robots-Tag:noindex
X-PUBLISHED-TTL:PT1H
BEGIN:VTIMEZONE
TZID:America/Denver
BEGIN:DAYLIGHT
TZOFFSETFROM:-0700
TZOFFSETTO:-0600
TZNAME:MDT
DTSTART:20250309T090000
END:DAYLIGHT
BEGIN:STANDARD
TZOFFSETFROM:-0600
TZOFFSETTO:-0700
TZNAME:MST
DTSTART:20251102T080000
END:STANDARD
BEGIN:DAYLIGHT
TZOFFSETFROM:-0700
TZOFFSETTO:-0600
TZNAME:MDT
DTSTART:20260308T090000
END:DAYLIGHT
BEGIN:STANDARD
TZOFFSETFROM:-0600
TZOFFSETTO:-0700
TZNAME:MST
DTSTART:20261101T080000
END:STANDARD
BEGIN:DAYLIGHT
TZOFFSETFROM:-0700
TZOFFSETTO:-0600
TZNAME:MDT
DTSTART:20270314T090000
END:DAYLIGHT
BEGIN:STANDARD
TZOFFSETFROM:-0600
TZOFFSETTO:-0700
TZNAME:MST
DTSTART:20271107T080000
END:STANDARD
END:VTIMEZONE
BEGIN:VEVENT
DTSTART;TZID=America/Denver:20260306T120000
DTEND;TZID=America/Denver:20260307T110000
DTSTAMP:20260423T115922
CREATED:20260306T180043Z
LAST-MODIFIED:20260306T180043Z
UID:10732-1772798400-1772881200@discoversevenstones.com
SUMMARY:Gardens closed for weather impact
DESCRIPTION:Today is a much needed snowy day! Our dry Colorado season really needed this snow\, which we are grateful for. With that said\, to keep everyone safe\, we will be closing our gardens between 12 pm on March 6 and 11 am on March 7th. Please\, stay safe and away from the roads as much as possible. We appreciate your understanding\, Becky and the Team
URL:https://discoversevenstones.com/event/gardens-closed-for-weather-impact/
LOCATION:Seven Stones Chatfield\, 9635 N Rampart Range Rd\, Littleton\, CO\, 80125\, United States
END:VEVENT
END:VCALENDAR