BEGIN:VCALENDAR
VERSION:2.0
PRODID:-//Seven Stones - ECPv6.15.18//NONSGML v1.0//EN
CALSCALE:GREGORIAN
METHOD:PUBLISH
X-WR-CALNAME:Seven Stones
X-ORIGINAL-URL:https://discoversevenstones.com
X-WR-CALDESC:Events for Seven Stones
REFRESH-INTERVAL;VALUE=DURATION:PT1H
X-Robots-Tag:noindex
X-PUBLISHED-TTL:PT1H
BEGIN:VTIMEZONE
TZID:America/Denver
BEGIN:DAYLIGHT
TZOFFSETFROM:-0700
TZOFFSETTO:-0600
TZNAME:MDT
DTSTART:20250309T090000
END:DAYLIGHT
BEGIN:STANDARD
TZOFFSETFROM:-0600
TZOFFSETTO:-0700
TZNAME:MST
DTSTART:20251102T080000
END:STANDARD
BEGIN:DAYLIGHT
TZOFFSETFROM:-0700
TZOFFSETTO:-0600
TZNAME:MDT
DTSTART:20260308T090000
END:DAYLIGHT
BEGIN:STANDARD
TZOFFSETFROM:-0600
TZOFFSETTO:-0700
TZNAME:MST
DTSTART:20261101T080000
END:STANDARD
BEGIN:DAYLIGHT
TZOFFSETFROM:-0700
TZOFFSETTO:-0600
TZNAME:MDT
DTSTART:20270314T090000
END:DAYLIGHT
BEGIN:STANDARD
TZOFFSETFROM:-0600
TZOFFSETTO:-0700
TZNAME:MST
DTSTART:20271107T080000
END:STANDARD
END:VTIMEZONE
BEGIN:VEVENT
DTSTART;TZID=America/Denver:20260314T110000
DTEND;TZID=America/Denver:20260314T120000
DTSTAMP:20260423T115941
CREATED:20260123T164651Z
LAST-MODIFIED:20260130T231120Z
UID:10658-1773486000-1773489600@discoversevenstones.com
SUMMARY:"Shelter" Temporarily Closed For Private Family Gathering
DESCRIPTION:Visitors are still welcome\, we just want to let our families know that there will be a gathering of people sharing stories and remembering their loved one in the Shelter area.
URL:https://discoversevenstones.com/event/shelter-temporarily-closed-for-private-family-gathering/
LOCATION:Seven Stones Chatfield\, 9635 N Rampart Range Rd\, Littleton\, CO\, 80125\, United States
CATEGORIES:Remembrance Celebration
END:VEVENT
END:VCALENDAR