BEGIN:VCALENDAR
VERSION:2.0
PRODID:-//Seven Stones - ECPv6.15.18//NONSGML v1.0//EN
CALSCALE:GREGORIAN
METHOD:PUBLISH
X-ORIGINAL-URL:https://discoversevenstones.com
X-WR-CALDESC:Events for Seven Stones
REFRESH-INTERVAL;VALUE=DURATION:PT1H
X-Robots-Tag:noindex
X-PUBLISHED-TTL:PT1H
BEGIN:VTIMEZONE
TZID:UTC
BEGIN:STANDARD
TZOFFSETFROM:+0000
TZOFFSETTO:+0000
TZNAME:UTC
DTSTART:20250101T000000
END:STANDARD
END:VTIMEZONE
BEGIN:VEVENT
DTSTART;TZID=UTC:20260509T070000
DTEND;TZID=UTC:20260509T160000
DTSTAMP:20260423T114045
CREATED:20260330T214811Z
LAST-MODIFIED:20260330T220007Z
UID:10804-1778310000-1778342400@discoversevenstones.com
SUMMARY:6th Annual Emersyn Ray Aurich Memorial Golf Tournament [Hole #7 Sponsor]
DESCRIPTION:Click on the website below and join Seven Stones in supporting this amazing cause in memory of a special young lady\, Emersyn Aurich. \n2026EmersynsGolf | Powered By GiveSmart \n 
URL:https://discoversevenstones.com/event/6th-annual-emersyn-ray-aurich-memorial-golf-tournament-hole-7-sponsor/
LOCATION:Arrowhead Golf Course\, 10850 Sundown Trail\, Littleton\, CO\, 80125\, United States
END:VEVENT
END:VCALENDAR