BEGIN:VCALENDAR
VERSION:2.0
PRODID:-//Seven Stones - ECPv6.15.18//NONSGML v1.0//EN
CALSCALE:GREGORIAN
METHOD:PUBLISH
X-ORIGINAL-URL:https://discoversevenstones.com
X-WR-CALDESC:Events for Seven Stones
REFRESH-INTERVAL;VALUE=DURATION:PT1H
X-Robots-Tag:noindex
X-PUBLISHED-TTL:PT1H
BEGIN:VTIMEZONE
TZID:UTC
BEGIN:STANDARD
TZOFFSETFROM:+0000
TZOFFSETTO:+0000
TZNAME:UTC
DTSTART:20230101T000000
END:STANDARD
END:VTIMEZONE
BEGIN:VEVENT
DTSTART;TZID=UTC:20240722T173000
DTEND;TZID=UTC:20240722T183000
DTSTAMP:20260419T113532
CREATED:20240617T213307Z
LAST-MODIFIED:20240725T044923Z
UID:9223-1721669400-1721673000@discoversevenstones.com
SUMMARY:YOGA With Barbara Meadows - CANCELLED
DESCRIPTION:Tonight’s yoga event with Barbara is cancelled due to poor air quality. Please\, be safe and see you next week. We are excited and happy to continue our Summer Yoga in July at Seven Stones.\n \nBarbara will be offering a gentle yoga class with focus on opening your hips and heart. You will feel relaxed and refreshed.\nWe are asking that you RSVP for each class you plan to attend (see information below). We anticipate there will be waiting lists due to the popularity of these sessions. So\, if you are unable to attend and have already RSVPd…please let Barbara know as soon as possible or at least 24 hours prior to the class\, so she can let the next person on the wait list know they may attend.\n \nPlease bring a towel\, water\, yoga mat\, yoga block (or a book 2 inches thick)\, a yoga strap (or a man’s tie).\n \n$10/class – payable by cash or check\n \nMondays 5:30 pm-6:30 pm with Barbara Meadows\nRSVP to Barbara 303.578.9706\n \nIf we have a WEATHER CANCELLATION\, it will be communicated to those who have RSVPd.\nWe are very much looking forward to a wonderful Fall season in the gardens.
URL:https://discoversevenstones.com/event/yoga-with-barbara-meadows-8/
LOCATION:Seven Stones Chatfield\, 9635 N Rampart Range Rd\, Littleton\, CO\, 80125\, United States
CATEGORIES:outdoor yoga
ATTACH;FMTTYPE=image/jpeg:https://discoversevenstones.com/wp-content/uploads/2024/06/Barbara-Mondays-yoga.jpg
END:VEVENT
BEGIN:VEVENT
DTSTART;TZID=UTC:20240717T180000
DTEND;TZID=UTC:20240717T190000
DTSTAMP:20260419T113532
CREATED:20240617T224552Z
LAST-MODIFIED:20240619T024858Z
UID:9240-1721239200-1721242800@discoversevenstones.com
SUMMARY:Yoga with Kristin Scott
DESCRIPTION:We are excited and happy to continue our Summer Yoga in June at Seven Stones.\nKristin’s moderate-level hatha yoga class is mindfully paced\, with introspection and an an exploration of the subtle (energetic) body.\nWe are asking that you RSVP for each class you plan to attend (see information below) due to the popularity of these sessions. \nIn addition to your yoga mat\, we recommend a towel\, water\, sunblock\, and layers as needed. Props\, such as a yoga block (or a book 2 inches thick)\, and/or a yoga strap (or a man’s tie) are encouraged.\n \nKristin’s class themes will be based on exploring our chakras (energy centers) from the ground up.\n \n\nOur June theme: Ground & Flow \nOur July theme: Ignite & Expand \nOur August theme: Attune & Perceive\nOur September theme: Witness (yoga and mini meditations)\n\n \n$10/class – payable by Venmo\, cash or check\nWednesdays 6 pm-7 pm with Kristin ScottRSVP to Kristin 720-773-0054\n \nIf we have a WEATHER CANCELLATION\, it will be communicated to those who have RSVPd.\nWe are very much looking forward to a wonderful Summer season in the gardens.
URL:https://discoversevenstones.com/event/yoga-with-kristin-scott-6/
LOCATION:CO
CATEGORIES:outdoor yoga
ATTACH;FMTTYPE=image/jpeg:https://discoversevenstones.com/wp-content/uploads/2024/06/Kristin-yoga-July-final.jpg
END:VEVENT
BEGIN:VEVENT
DTSTART;TZID=UTC:20240715T173000
DTEND;TZID=UTC:20240715T183000
DTSTAMP:20260419T113532
CREATED:20240617T213233Z
LAST-MODIFIED:20240619T025209Z
UID:9221-1721064600-1721068200@discoversevenstones.com
SUMMARY:YOGA With Barbara Meadows
DESCRIPTION:Barbara will be offering a gentle yoga class with focus on opening your hips and heart. You will feel relaxed and refreshed.\nWe are asking that you RSVP for each class you plan to attend (see information below). We anticipate there will be waiting lists due to the popularity of these sessions. So\, if you are unable to attend and have already RSVPd…please let Barbara know as soon as possible or at least 24 hours prior to the class\, so she can let the next person on the wait list know they may attend.\n \nPlease bring a towel\, water\, yoga mat\, yoga block (or a book 2 inches thick)\, a yoga strap (or a man’s tie).\n \n$10/class – payable by cash or check\n \nMondays 5:30 pm-6:30 pm with Barbara Meadows\nRSVP to Barbara 303.578.9706\n \nIf we have a WEATHER CANCELLATION\, it will be communicated to those who have RSVPd.\nWe are very much looking forward to a wonderful Fall season in the gardens.
URL:https://discoversevenstones.com/event/yoga-with-barbara-meadows-7/
LOCATION:Seven Stones Chatfield\, 9635 N Rampart Range Rd\, Littleton\, CO\, 80125\, United States
CATEGORIES:outdoor yoga
ATTACH;FMTTYPE=image/jpeg:https://discoversevenstones.com/wp-content/uploads/2024/06/Barbara-Mondays-yoga.jpg
END:VEVENT
BEGIN:VEVENT
DTSTART;TZID=UTC:20240710T180000
DTEND;TZID=UTC:20240710T190000
DTSTAMP:20260419T113532
CREATED:20240617T224432Z
LAST-MODIFIED:20240619T024924Z
UID:9236-1720634400-1720638000@discoversevenstones.com
SUMMARY:Yoga with Kristin Scott
DESCRIPTION:We are excited and happy to continue our Summer Yoga in June at Seven Stones.\nKristin’s moderate-level hatha yoga class is mindfully paced\, with introspection and an an exploration of the subtle (energetic) body.\nWe are asking that you RSVP for each class you plan to attend (see information below) due to the popularity of these sessions. \nIn addition to your yoga mat\, we recommend a towel\, water\, sunblock\, and layers as needed. Props\, such as a yoga block (or a book 2 inches thick)\, and/or a yoga strap (or a man’s tie) are encouraged.\n \nKristin’s class themes will be based on exploring our chakras (energy centers) from the ground up.\n \n\nOur June theme: Ground & Flow \nOur July theme: Ignite & Expand \nOur August theme: Attune & Perceive\nOur September theme: Witness (yoga and mini meditations)\n\n \n$10/class – payable by Venmo\, cash or check\nWednesdays 6 pm-7 pm with Kristin ScottRSVP to Kristin 720-773-0054\n \nIf we have a WEATHER CANCELLATION\, it will be communicated to those who have RSVPd.\nWe are very much looking forward to a wonderful Summer season in the gardens.
URL:https://discoversevenstones.com/event/yoga-with-kristin-scott-5/
LOCATION:CO
CATEGORIES:outdoor yoga
ATTACH;FMTTYPE=image/jpeg:https://discoversevenstones.com/wp-content/uploads/2024/06/Kristin-yoga-July-final.jpg
END:VEVENT
BEGIN:VEVENT
DTSTART;TZID=UTC:20240708T173000
DTEND;TZID=UTC:20240708T183000
DTSTAMP:20260419T113532
CREATED:20240617T213017Z
LAST-MODIFIED:20240619T025234Z
UID:9219-1720459800-1720463400@discoversevenstones.com
SUMMARY:YOGA With Barbara Meadows
DESCRIPTION:Barbara will be offering a gentle yoga class with focus on opening your hips and heart. You will feel relaxed and refreshed.\nWe are asking that you RSVP for each class you plan to attend (see information below). We anticipate there will be waiting lists due to the popularity of these sessions. So\, if you are unable to attend and have already RSVPd…please let Barbara know as soon as possible or at least 24 hours prior to the class\, so she can let the next person on the wait list know they may attend.\n \nPlease bring a towel\, water\, yoga mat\, yoga block (or a book 2 inches thick)\, a yoga strap (or a man’s tie).\n \n$10/class – payable by cash or check\n \nMondays 5:30 pm-6:30 pm with Barbara Meadows\nRSVP to Barbara 303.578.9706\n \nIf we have a WEATHER CANCELLATION\, it will be communicated to those who have RSVPd.\nWe are very much looking forward to a wonderful Fall season in the gardens.
URL:https://discoversevenstones.com/event/yoga-with-barbara-meadows-6/
LOCATION:Seven Stones Chatfield\, 9635 N Rampart Range Rd\, Littleton\, CO\, 80125\, United States
CATEGORIES:outdoor yoga
ATTACH;FMTTYPE=image/jpeg:https://discoversevenstones.com/wp-content/uploads/2024/06/Barbara-Mondays-yoga.jpg
END:VEVENT
BEGIN:VEVENT
DTSTART;TZID=UTC:20240703T180000
DTEND;TZID=UTC:20240703T190000
DTSTAMP:20260419T113532
CREATED:20240617T214330Z
LAST-MODIFIED:20240701T192450Z
UID:9226-1720029600-1720033200@discoversevenstones.com
SUMMARY:Yoga with Kristin Scott cancelled
DESCRIPTION:Please\, note that tonight’s yoga with Kristin has been cancelled. Have a safe July 4th holiday!\n \nWe are excited and happy to continue our Summer Yoga in July at Seven Stones.\nKristin’s moderate-level hatha yoga class is mindfully paced\, with introspection and an an exploration of the subtle (energetic) body.\nWe are asking that you RSVP for each class you plan to attend (see information below) due to the popularity of these sessions. \nIn addition to your yoga mat\, we recommend a towel\, water\, sunblock\, and layers as needed. Props\, such as a yoga block (or a book 2 inches thick)\, and/or a yoga strap (or a man’s tie) are encouraged.\n \nKristin’s class themes will be based on exploring our chakras (energy centers) from the ground up.\n \n\nOur June theme: Ground & Flow \nOur July theme: Ignite & Expand \nOur August theme: Attune & Perceive\nOur September theme: Witness (yoga and mini meditations)\n\n \n$10/class – payable by Venmo\, cash or check\nWednesdays 6 pm-7 pm with Kristin ScottRSVP to Kristin 720-773-0054\n \nIf we have a WEATHER CANCELLATION\, it will be communicated to those who have RSVPd.\nWe are very much looking forward to a wonderful Summer season in the gardens.
URL:https://discoversevenstones.com/event/yoga-with-kristin-scott-4/
LOCATION:CO
CATEGORIES:outdoor yoga
ATTACH;FMTTYPE=image/jpeg:https://discoversevenstones.com/wp-content/uploads/2024/06/Kristin-yoga-July-final.jpg
END:VEVENT
BEGIN:VEVENT
DTSTART;TZID=UTC:20240701T173000
DTEND;TZID=UTC:20240701T183000
DTSTAMP:20260419T113532
CREATED:20240617T210511Z
LAST-MODIFIED:20240619T025319Z
UID:9217-1719855000-1719858600@discoversevenstones.com
SUMMARY:YOGA With Barbara Meadows
DESCRIPTION:Barbara will be offering a gentle yoga class with focus on opening your hips and heart. You will feel relaxed and refreshed.\nWe are asking that you RSVP for each class you plan to attend (see information below). We anticipate there will be waiting lists due to the popularity of these sessions. So\, if you are unable to attend and have already RSVPd…please let Barbara know as soon as possible or at least 24 hours prior to the class\, so she can let the next person on the wait list know they may attend.\n \nPlease bring a towel\, water\, yoga mat\, yoga block (or a book 2 inches thick)\, a yoga strap (or a man’s tie).\n \n$10/class – payable by cash or check\n \nMondays 5:30 pm-6:30 pm with Barbara Meadows\nRSVP to Barbara 303.578.9706\n \nIf we have a WEATHER CANCELLATION\, it will be communicated to those who have RSVPd.\nWe are very much looking forward to a wonderful Fall season in the gardens.
URL:https://discoversevenstones.com/event/yoga-with-barbara-meadows-5/
LOCATION:Seven Stones Chatfield\, 9635 N Rampart Range Rd\, Littleton\, CO\, 80125\, United States
CATEGORIES:outdoor yoga
ATTACH;FMTTYPE=image/jpeg:https://discoversevenstones.com/wp-content/uploads/2024/06/Barbara-Mondays-yoga.jpg
END:VEVENT
BEGIN:VEVENT
DTSTART;TZID=UTC:20240626T180000
DTEND;TZID=UTC:20240626T190000
DTSTAMP:20260419T113532
CREATED:20240424T021429Z
LAST-MODIFIED:20240617T214151Z
UID:8817-1719424800-1719428400@discoversevenstones.com
SUMMARY:Yoga with Kristin Scott
DESCRIPTION:We are excited and happy to continue our Summer Yoga in June at Seven Stones.\n \nPlease\, note\, that this class will be held by Barbara Meadows. \nKristin’s moderate-level hatha yoga class is mindfully paced\, with introspection and an an exploration of the subtle (energetic) body.\nWe are asking that you RSVP for each class you plan to attend (see information below) due to the popularity of these sessions. \nIn addition to your yoga mat\, we recommend a towel\, water\, sunblock\, and layers as needed. Props\, such as a yoga block (or a book 2 inches thick)\, and/or a yoga strap (or a man’s tie) are encouraged.\n \nKristin’s class themes will be based on exploring our chakras (energy centers) from the ground up.\n \n\nOur June theme: Ground & Flow \nOur July theme: Ignite & Expand \nOur August theme: Attune & Perceive\nOur September theme: Witness (yoga and mini meditations)\n\n \n$10/class – payable by Venmo\, cash or check\nWednesdays 6 pm-7 pm with Kristin ScottRSVP to Kristin 720-773-0054\n \nIf we have a WEATHER CANCELLATION\, it will be communicated to those who have RSVPd.\nWe are very much looking forward to a wonderful Summer season in the gardens.
URL:https://discoversevenstones.com/event/yoga-with-kristin-scott-3/
LOCATION:CO
CATEGORIES:outdoor yoga
ATTACH;FMTTYPE=image/jpeg:https://discoversevenstones.com/wp-content/uploads/2024/04/Kristin-yoga-events-new-2024.jpg
END:VEVENT
BEGIN:VEVENT
DTSTART;TZID=UTC:20240624T173000
DTEND;TZID=UTC:20240624T183000
DTSTAMP:20260419T113532
CREATED:20240424T011800Z
LAST-MODIFIED:20240617T210116Z
UID:8799-1719250200-1719253800@discoversevenstones.com
SUMMARY:YOGA With Barbara Meadows
DESCRIPTION:Barbara will be offering a gentle yoga class with focus on opening your hips and heart. You will feel relaxed and refreshed.\nWe are asking that you RSVP for each class you plan to attend (see information below). We anticipate there will be waiting lists due to the popularity of these sessions. So\, if you are unable to attend and have already RSVPd…please let Barbara know as soon as possible or at least 24 hours prior to the class\, so she can let the next person on the wait list know they may attend.\n \nPlease bring a towel\, water\, yoga mat\, yoga block (or a book 2 inches thick)\, a yoga strap (or a man’s tie).\n \n$10/class – payable by cash or check\n \nMondays 5:30 pm-6:30 pm with Barbara Meadows\nRSVP to Barbara 303.578.9706\n \nIf we have a WEATHER CANCELLATION\, it will be communicated to those who have RSVPd.\nWe are very much looking forward to a wonderful Fall season in the gardens.
URL:https://discoversevenstones.com/event/yoga-with-barbara-meadows-4/
LOCATION:Seven Stones Chatfield\, 9635 N Rampart Range Rd\, Littleton\, CO\, 80125\, United States
CATEGORIES:outdoor yoga
ATTACH;FMTTYPE=image/jpeg:https://discoversevenstones.com/wp-content/uploads/2024/04/Barbara-2024-Event-FB-Cover-for-website.jpg
END:VEVENT
BEGIN:VEVENT
DTSTART;TZID=UTC:20240619T180000
DTEND;TZID=UTC:20240619T190000
DTSTAMP:20260419T113532
CREATED:20240424T021403Z
LAST-MODIFIED:20240425T205116Z
UID:8815-1718820000-1718823600@discoversevenstones.com
SUMMARY:Yoga with Kristin Scott
DESCRIPTION:We are excited and happy to continue our Summer Yoga in June at Seven Stones.\nKristin’s moderate-level hatha yoga class is mindfully paced\, with introspection and an an exploration of the subtle (energetic) body.\nWe are asking that you RSVP for each class you plan to attend (see information below) due to the popularity of these sessions. \nIn addition to your yoga mat\, we recommend a towel\, water\, sunblock\, and layers as needed. Props\, such as a yoga block (or a book 2 inches thick)\, and/or a yoga strap (or a man’s tie) are encouraged.\n \nKristin’s class themes will be based on exploring our chakras (energy centers) from the ground up.\n \n\nOur June theme: Ground & Flow \nOur July theme: Ignite & Expand \nOur August theme: Attune & Perceive\nOur September theme: Witness (yoga and mini meditations)\n\n \n$10/class – payable by Venmo\, cash or check\nWednesdays 6 pm-7 pm with Kristin ScottRSVP to Kristin 720-773-0054\n \nIf we have a WEATHER CANCELLATION\, it will be communicated to those who have RSVPd.\nWe are very much looking forward to a wonderful Summer season in the gardens.
URL:https://discoversevenstones.com/event/yoga-with-kristin-scott-2/
LOCATION:CO
CATEGORIES:outdoor yoga
ATTACH;FMTTYPE=image/jpeg:https://discoversevenstones.com/wp-content/uploads/2024/04/Yoga-with-Kristin-at-Seven-Stones.jpg
END:VEVENT
BEGIN:VEVENT
DTSTART;TZID=UTC:20240617T173000
DTEND;TZID=UTC:20240617T183000
DTSTAMP:20260419T113532
CREATED:20240424T011734Z
LAST-MODIFIED:20240617T205802Z
UID:8797-1718645400-1718649000@discoversevenstones.com
SUMMARY:YOGA With Barbara Meadows
DESCRIPTION:Barbara will be offering a gentle yoga class with focus on opening your hips and heart. You will feel relaxed and refreshed.\nWe are asking that you RSVP for each class you plan to attend (see information below). We anticipate there will be waiting lists due to the popularity of these sessions. So\, if you are unable to attend and have already RSVPd…please let Barbara know as soon as possible or at least 24 hours prior to the class\, so she can let the next person on the wait list know they may attend.\n \nPlease bring a towel\, water\, yoga mat\, yoga block (or a book 2 inches thick)\, a yoga strap (or a man’s tie).\n \n$10/class – payable by cash or check\n \nMondays 5:30 pm-6:30 pm with Barbara Meadows\nRSVP to Barbara 303.578.9706\n \nIf we have a WEATHER CANCELLATION\, it will be communicated to those who have RSVPd.\nWe are very much looking forward to a wonderful Fall season in the gardens.
URL:https://discoversevenstones.com/event/yoga-with-barbara-meadows-3/
LOCATION:Seven Stones Chatfield\, 9635 N Rampart Range Rd\, Littleton\, CO\, 80125\, United States
CATEGORIES:outdoor yoga
ATTACH;FMTTYPE=image/jpeg:https://discoversevenstones.com/wp-content/uploads/2024/04/Barbara-2024-Event-FB-Cover-for-website.jpg
END:VEVENT
BEGIN:VEVENT
DTSTART;TZID=UTC:20240612T180000
DTEND;TZID=UTC:20240612T190000
DTSTAMP:20260419T113532
CREATED:20240424T021327Z
LAST-MODIFIED:20240425T205141Z
UID:8813-1718215200-1718218800@discoversevenstones.com
SUMMARY:Yoga with Kristin Scott
DESCRIPTION:We are excited and happy to continue our Summer Yoga in June at Seven Stones.\n \nPlease\, note\, that this class will be held by Barbara Meadows. \nKristin’s moderate-level hatha yoga class is mindfully paced\, with introspection and an an exploration of the subtle (energetic) body.\nWe are asking that you RSVP for each class you plan to attend (see information below) due to the popularity of these sessions. \nIn addition to your yoga mat\, we recommend a towel\, water\, sunblock\, and layers as needed. Props\, such as a yoga block (or a book 2 inches thick)\, and/or a yoga strap (or a man’s tie) are encouraged.\n \nKristin’s class themes will be based on exploring our chakras (energy centers) from the ground up.\n \n\nOur June theme: Ground & Flow \nOur July theme: Ignite & Expand \nOur August theme: Attune & Perceive\nOur September theme: Witness (yoga and mini meditations)\n\n \n$10/class – payable by Venmo\, cash or check\nWednesdays 6 pm-7 pm with Kristin ScottRSVP to Kristin 720-773-0054\n \nIf we have a WEATHER CANCELLATION\, it will be communicated to those who have RSVPd.\nWe are very much looking forward to a wonderful Summer season in the gardens.
URL:https://discoversevenstones.com/event/yoga-with-kristin-scott/
LOCATION:CO
CATEGORIES:outdoor yoga
ATTACH;FMTTYPE=image/jpeg:https://discoversevenstones.com/wp-content/uploads/2024/04/Yoga-with-Kristin-at-Seven-Stones.jpg
END:VEVENT
BEGIN:VEVENT
DTSTART;TZID=UTC:20240610T173000
DTEND;TZID=UTC:20240610T183000
DTSTAMP:20260419T113532
CREATED:20240424T011637Z
LAST-MODIFIED:20240424T011637Z
UID:8795-1718040600-1718044200@discoversevenstones.com
SUMMARY:YOGA With Barbara Meadows
DESCRIPTION:Barbara will be offering a gentle yoga class with focus on opening your hips and heart. You will feel relaxed and refreshed.\nWe are asking that you RSVP for each class you plan to attend (see information below). We anticipate there will be waiting lists due to the popularity of these sessions. So\, if you are unable to attend and have already RSVPd…please let Barbara know as soon as possible or at least 24 hours prior to the class\, so she can let the next person on the wait list know they may attend.\n \nPlease bring a towel\, water\, yoga mat\, yoga block (or a book 2 inches thick)\, a yoga strap (or a man’s tie).\n \n$10/class – payable by cash or check\n \nMondays 5:30 pm-6:30 pm with Barbara Meadows\nRSVP to Barbara 303.578.9706\n \nIf we have a WEATHER CANCELLATION\, it will be communicated to those who have RSVPd.\nWe are very much looking forward to a wonderful Fall season in the gardens.
URL:https://discoversevenstones.com/event/yoga-with-barbara-meadows-2/
LOCATION:Seven Stones Chatfield\, 9635 N Rampart Range Rd\, Littleton\, CO\, 80125\, United States
CATEGORIES:outdoor yoga
ATTACH;FMTTYPE=image/jpeg:https://discoversevenstones.com/wp-content/uploads/2024/04/Yoga-with-Barbara.jpg
END:VEVENT
BEGIN:VEVENT
DTSTART;TZID=UTC:20240605T180000
DTEND;TZID=UTC:20240605T190000
DTSTAMP:20260419T113532
CREATED:20240424T021036Z
LAST-MODIFIED:20240425T212004Z
UID:8809-1717610400-1717614000@discoversevenstones.com
SUMMARY:Yoga with Kristin Scott
DESCRIPTION:We are excited and happy to continue our Summer Yoga in June at Seven Stones.\nKristin’s moderate-level hatha yoga class is mindfully paced\, with introspection and an an exploration of the subtle (energetic) body.\nWe are asking that you RSVP for each class you plan to attend (see information below) due to the popularity of these sessions. \nIn addition to your yoga mat\, we recommend a towel\, water\, sunblock\, and layers as needed. Props\, such as a yoga block (or a book 2 inches thick)\, and/or a yoga strap (or a man’s tie) are encouraged.\n \nKristin’s class themes will be based on exploring our chakras (energy centers) from the ground up.\n \n\nOur June theme: Ground & Flow \nOur July theme: Ignite & Expand \nOur August theme: Attune & Perceive\nOur September theme: Witness (yoga and mini meditations)\n\n \n$10/class – payable by Venmo\, cash or check\nWednesdays 6 pm-7 pm with Kristin ScottRSVP to Kristin 720-773-0054\n \nIf we have a WEATHER CANCELLATION\, it will be communicated to those who have RSVPd.\nWe are very much looking forward to a wonderful Summer season in the gardens.
URL:https://discoversevenstones.com/event/yoga-with-kristin/
LOCATION:CO
CATEGORIES:outdoor yoga
ATTACH;FMTTYPE=image/jpeg:https://discoversevenstones.com/wp-content/uploads/2024/04/Yoga-with-Kristin-at-Seven-Stones.jpg
END:VEVENT
BEGIN:VEVENT
DTSTART;TZID=UTC:20240603T173000
DTEND;TZID=UTC:20240603T183000
DTSTAMP:20260419T113532
CREATED:20240419T042759Z
LAST-MODIFIED:20240424T011544Z
UID:8747-1717435800-1717439400@discoversevenstones.com
SUMMARY:YOGA With Barbara Meadows
DESCRIPTION:Barbara will be offering a gentle yoga class with focus on opening your hips and heart. You will feel relaxed and refreshed.\nWe are asking that you RSVP for each class you plan to attend (see information below). We anticipate there will be waiting lists due to the popularity of these sessions. So\, if you are unable to attend and have already RSVPd…please let Barbara know as soon as possible or at least 24 hours prior to the class\, so she can let the next person on the wait list know they may attend.\n \nPlease bring a towel\, water\, yoga mat\, yoga block (or a book 2 inches thick)\, a yoga strap (or a man’s tie).\n \n$10/class – payable by cash or check\n \nMondays 5:30 pm-6:30 pm with Barbara Meadows\nRSVP to Barbara 303.578.9706\n \nIf we have a WEATHER CANCELLATION\, it will be communicated to those who have RSVPd.\nWe are very much looking forward to a wonderful Fall season in the gardens.
URL:https://discoversevenstones.com/event/yoga-with-barbara-meadows/
LOCATION:Seven Stones Chatfield\, 9635 N Rampart Range Rd\, Littleton\, CO\, 80125\, United States
CATEGORIES:outdoor yoga
ATTACH;FMTTYPE=image/jpeg:https://discoversevenstones.com/wp-content/uploads/2024/04/Yoga-with-Barbara.jpg
END:VEVENT
END:VCALENDAR