BEGIN:VCALENDAR
VERSION:2.0
PRODID:-//Seven Stones - ECPv6.15.20//NONSGML v1.0//EN
CALSCALE:GREGORIAN
METHOD:PUBLISH
X-ORIGINAL-URL:https://discoversevenstones.com
X-WR-CALDESC:Events for Seven Stones
REFRESH-INTERVAL;VALUE=DURATION:PT1H
X-Robots-Tag:noindex
X-PUBLISHED-TTL:PT1H
BEGIN:VTIMEZONE
TZID:UTC
BEGIN:STANDARD
TZOFFSETFROM:+0000
TZOFFSETTO:+0000
TZNAME:UTC
DTSTART:20250101T000000
END:STANDARD
END:VTIMEZONE
BEGIN:VTIMEZONE
TZID:America/Denver
BEGIN:DAYLIGHT
TZOFFSETFROM:-0700
TZOFFSETTO:-0600
TZNAME:MDT
DTSTART:20250309T090000
END:DAYLIGHT
BEGIN:STANDARD
TZOFFSETFROM:-0600
TZOFFSETTO:-0700
TZNAME:MST
DTSTART:20251102T080000
END:STANDARD
BEGIN:DAYLIGHT
TZOFFSETFROM:-0700
TZOFFSETTO:-0600
TZNAME:MDT
DTSTART:20260308T090000
END:DAYLIGHT
BEGIN:STANDARD
TZOFFSETFROM:-0600
TZOFFSETTO:-0700
TZNAME:MST
DTSTART:20261101T080000
END:STANDARD
BEGIN:DAYLIGHT
TZOFFSETFROM:-0700
TZOFFSETTO:-0600
TZNAME:MDT
DTSTART:20270314T090000
END:DAYLIGHT
BEGIN:STANDARD
TZOFFSETFROM:-0600
TZOFFSETTO:-0700
TZNAME:MST
DTSTART:20271107T080000
END:STANDARD
END:VTIMEZONE
BEGIN:VEVENT
DTSTART;TZID=UTC:20260324T110000
DTEND;TZID=UTC:20260324T130000
DTSTAMP:20260425T050719
CREATED:20260323T191019Z
LAST-MODIFIED:20260323T192215Z
UID:10758-1774350000-1774357200@discoversevenstones.com
SUMMARY:Office Closed (Gardens Open) - Team Event
DESCRIPTION:
URL:https://discoversevenstones.com/event/office-closed-gardens-open-team-event/
LOCATION:CO
END:VEVENT
BEGIN:VEVENT
DTSTART;TZID=UTC:20260331T100000
DTEND;TZID=UTC:20260331T130000
DTSTAMP:20260425T050719
CREATED:20260311T214924Z
LAST-MODIFIED:20260311T214924Z
UID:10750-1774951200-1774962000@discoversevenstones.com
SUMMARY:GARDEN WORKSHOP - Cutting Garden
DESCRIPTION:Event Will Be Held In The Courtyard Behind The Office (or inside\, if inclement weather). \nPlease join us for the first in this two-part series to learn how to start seeds and prepare for planting! Betsy from Jared’s Nursery in Littleton\, will be our guide as we “dig” into the essentials of creating beautiful blooms!\n***To RSVP for this event please call 303-717-7117 or email info@DiscoverSevenStones.comThis is a Free Event. Please bring water\, gardening gloves and sunscreen!\nNote: Space is limited.
URL:https://discoversevenstones.com/event/garden-workshop-cutting-garden/
LOCATION:Seven Stones Chatfield\, 9635 N Rampart Range Rd\, Littleton\, CO\, 80125\, United States
CATEGORIES:Gardening Workshop
ATTACH;FMTTYPE=image/jpeg:https://discoversevenstones.com/wp-content/uploads/2026/03/Garden-Workshop-March-31.jpg
ORGANIZER;CN="Seven Stones - Chatfield":MAILTO:info@discoversevenstones.com
END:VEVENT
BEGIN:VEVENT
DTSTART;TZID=America/Denver:20260331T140000
DTEND;TZID=America/Denver:20260331T143000
DTSTAMP:20260425T050719
CREATED:20260330T171024Z
LAST-MODIFIED:20260330T171024Z
UID:10794-1774965600-1774967400@discoversevenstones.com
SUMMARY:Gardens Temporarily Closed For Katherine Ann Konopka Placement
DESCRIPTION:Gardens Temporarily Closed During Memorial Services
URL:https://discoversevenstones.com/event/gardens-temporarily-closed-for-katherine-ann-konopka-placement/
LOCATION:Seven Stones Chatfield\, 9635 N Rampart Range Rd\, Littleton\, CO\, 80125\, United States
CATEGORIES:Placement Service
END:VEVENT
BEGIN:VEVENT
DTSTART;TZID=UTC:20260401T090000
DTEND;TZID=UTC:20260401T130000
DTSTAMP:20260425T050719
CREATED:20260323T194042Z
LAST-MODIFIED:20260323T195359Z
UID:10763-1775034000-1775048400@discoversevenstones.com
SUMMARY:Silk/Artificial Flower Removal Day - REMINDER
DESCRIPTION:As a reminder\, we will be removing ALL silk/artificial flowers on April 1st.  \nIf you want to keep your flowers\, please retrieve them prior to April 1st.   \nIf you want your flowers and cannot retrieve them prior to April 1st\, please call/email us and we will set them by the Water Tank for your retrieval before April 8th.   \n303-717-7117 | info@discoversevenstones.com \nIf we do not hear from you prior to April 1st\, flowers will be removed and discarded the same day.  \nRules & Etiquette Reference Page
URL:https://discoversevenstones.com/event/silk-artificial-flower-removal-day-reminder/
LOCATION:Seven Stones Chatfield\, 9635 N Rampart Range Rd\, Littleton\, CO\, 80125\, United States
END:VEVENT
BEGIN:VEVENT
DTSTART;TZID=UTC:20260403T120000
DTEND;TZID=UTC:20260403T170000
DTSTAMP:20260425T050719
CREATED:20260401T210306Z
LAST-MODIFIED:20260401T210306Z
UID:10822-1775217600-1775235600@discoversevenstones.com
SUMMARY:Office Closed In Afternoon (Gardens Open) - Good Friday
DESCRIPTION:
URL:https://discoversevenstones.com/event/office-closed-in-afternoon-gardens-open-good-friday/
LOCATION:CO
END:VEVENT
BEGIN:VEVENT
DTSTART;VALUE=DATE:20260405
DTEND;VALUE=DATE:20260406
DTSTAMP:20260425T050719
CREATED:20260401T210947Z
LAST-MODIFIED:20260401T210947Z
UID:10825-1775347200-1775433599@discoversevenstones.com
SUMMARY:Easter
DESCRIPTION:
URL:https://discoversevenstones.com/event/easter/
LOCATION:CO
END:VEVENT
BEGIN:VEVENT
DTSTART;TZID=America/Denver:20260406T110000
DTEND;TZID=America/Denver:20260406T123000
DTSTAMP:20260425T050719
CREATED:20260330T172741Z
LAST-MODIFIED:20260330T210638Z
UID:10800-1775473200-1775478600@discoversevenstones.com
SUMMARY:Gardens Temporarily Closed For Sonny & Clara Stevens Placement
DESCRIPTION:Gardens Temporarily Closed During Memorial Services
URL:https://discoversevenstones.com/event/gardens-temporarily-closed-for-sonny-clara-stevens-placement/
LOCATION:Seven Stones Chatfield\, 9635 N Rampart Range Rd\, Littleton\, CO\, 80125\, United States
CATEGORIES:Placement Service
END:VEVENT
BEGIN:VEVENT
DTSTART;TZID=America/Denver:20260410T113000
DTEND;TZID=America/Denver:20260410T133000
DTSTAMP:20260425T050719
CREATED:20260330T170028Z
LAST-MODIFIED:20260330T170028Z
UID:10792-1775820600-1775827800@discoversevenstones.com
SUMMARY:Gardens Temporarily Closed For Michael Adolf Placement
DESCRIPTION:Gardens Temporarily Closed During Memorial Services
URL:https://discoversevenstones.com/event/gardens-temporarily-closed-for-michael-adolf-placement/
LOCATION:Seven Stones Chatfield\, 9635 N Rampart Range Rd\, Littleton\, CO\, 80125\, United States
CATEGORIES:Placement Service
END:VEVENT
BEGIN:VEVENT
DTSTART;TZID=America/Denver:20260410T140000
DTEND;TZID=America/Denver:20260410T170000
DTSTAMP:20260425T050719
CREATED:20260330T172301Z
LAST-MODIFIED:20260330T172301Z
UID:10797-1775829600-1775840400@discoversevenstones.com
SUMMARY:Gardens Temporarily Closed For Sequoia Michaelson's Celebration of Life
DESCRIPTION:Gardens Temporarily Closed During Memorial Services.
URL:https://discoversevenstones.com/event/gardens-temporarily-closed-for-sequoia-michaelsons-celebration-of-life/
LOCATION:Seven Stones Chatfield\, 9635 N Rampart Range Rd\, Littleton\, CO\, 80125\, United States
CATEGORIES:Placement Service
END:VEVENT
BEGIN:VEVENT
DTSTART;TZID=America/Denver:20260427T113000
DTEND;TZID=America/Denver:20260427T120000
DTSTAMP:20260425T050719
CREATED:20260424T180022Z
LAST-MODIFIED:20260424T180022Z
UID:10840-1777289400-1777291200@discoversevenstones.com
SUMMARY:Gardens Temporarily Closed For Kristin Nicoletti Placement
DESCRIPTION:Gardens Temporarily Closed During Memorial Services
URL:https://discoversevenstones.com/event/gardens-temporarily-closed-for-kristin-nicoletti-placement/
LOCATION:Seven Stones Chatfield\, 9635 N Rampart Range Rd\, Littleton\, CO\, 80125\, United States
CATEGORIES:Placement Service
END:VEVENT
BEGIN:VEVENT
DTSTART;TZID=America/Denver:20260427T153000
DTEND;TZID=America/Denver:20260427T163000
DTSTAMP:20260425T050719
CREATED:20260424T180118Z
LAST-MODIFIED:20260424T180118Z
UID:10842-1777303800-1777307400@discoversevenstones.com
SUMMARY:Gardens Temporarily Closed For Evelyn Monckton Placement
DESCRIPTION:Gardens Temporarily Closed During Memorial Services
URL:https://discoversevenstones.com/event/gardens-temporarily-closed-for-evelyn-monckton-placement/
LOCATION:Seven Stones Chatfield\, 9635 N Rampart Range Rd\, Littleton\, CO\, 80125\, United States
CATEGORIES:Placement Service
END:VEVENT
BEGIN:VEVENT
DTSTART;TZID=UTC:20260429T140000
DTEND;TZID=UTC:20260429T170000
DTSTAMP:20260425T050719
CREATED:20260424T170536Z
LAST-MODIFIED:20260424T175757Z
UID:10837-1777471200-1777482000@discoversevenstones.com
SUMMARY:Office Closed In Afternoon (Gardens Open) - Team Meeting
DESCRIPTION:
URL:https://discoversevenstones.com/event/office-closed-in-afternoon-gardens-open-team-meeting/
LOCATION:CO
END:VEVENT
BEGIN:VEVENT
DTSTART;TZID=America/Denver:20260501T080000
DTEND;TZID=America/Denver:20260529T170000
DTSTAMP:20260425T050719
CREATED:20260424T150943Z
LAST-MODIFIED:20260424T150943Z
UID:10832-1777622400-1780074000@discoversevenstones.com
SUMMARY:Free Scattering In the Ossuary
DESCRIPTION:During the month of May\, our annual tradition continues with free scattering in our Canyon View Commons – Ossuary. \nIf you or someone you know is looking for a forever resting place for a loved one’s cremains we would be honored to serve you. \nFor more information\, and to assist with a free scattering appointment\, please contact one of our Family Advisors at (303) 717-7117 or via email to info@discoversevenstones.com
URL:https://discoversevenstones.com/event/free-scattering-in-the-ossuary/
LOCATION:Seven Stones Chatfield\, 9635 N Rampart Range Rd\, Littleton\, CO\, 80125\, United States
ATTACH;FMTTYPE=image/webp:https://discoversevenstones.com/wp-content/uploads/2026/04/Free-Scattering-2026.webp
END:VEVENT
BEGIN:VEVENT
DTSTART;TZID=America/Denver:20260504T083000
DTEND;TZID=America/Denver:20260504T090000
DTSTAMP:20260425T050719
CREATED:20260326T193236Z
LAST-MODIFIED:20260326T193236Z
UID:10780-1777883400-1777885200@discoversevenstones.com
SUMMARY:Free Scatter Day #1
DESCRIPTION:Gardens Temporarily Closed During Memorial Services
URL:https://discoversevenstones.com/event/free-scatter-day-1/
LOCATION:Seven Stones Chatfield\, 9635 N Rampart Range Rd\, Littleton\, CO\, 80125\, United States
CATEGORIES:Placement Service
END:VEVENT
BEGIN:VEVENT
DTSTART;TZID=America/Denver:20260504T100000
DTEND;TZID=America/Denver:20260504T110000
DTSTAMP:20260425T050719
CREATED:20260326T180323Z
LAST-MODIFIED:20260326T194022Z
UID:10776-1777888800-1777892400@discoversevenstones.com
SUMMARY:Kenney Family Placements
DESCRIPTION:
URL:https://discoversevenstones.com/event/gardens-temporarily-closed-for-kenney-family-placements-time-tbd/
LOCATION:Seven Stones Chatfield\, 9635 N Rampart Range Rd\, Littleton\, CO\, 80125\, United States
CATEGORIES:Placement Service
END:VEVENT
BEGIN:VEVENT
DTSTART;TZID=America/Denver:20260504T120000
DTEND;TZID=America/Denver:20260504T123000
DTSTAMP:20260425T050719
CREATED:20260424T181531Z
LAST-MODIFIED:20260424T181531Z
UID:10846-1777896000-1777897800@discoversevenstones.com
SUMMARY:Ossuary Placement
DESCRIPTION:
URL:https://discoversevenstones.com/event/ossuary-placement/
LOCATION:Seven Stones Chatfield\, 9635 N Rampart Range Rd\, Littleton\, CO\, 80125\, United States
CATEGORIES:Placement Service
END:VEVENT
BEGIN:VEVENT
DTSTART;TZID=America/Denver:20260504T150000
DTEND;TZID=America/Denver:20260504T160000
DTSTAMP:20260425T050719
CREATED:20260424T181248Z
LAST-MODIFIED:20260424T181312Z
UID:10844-1777906800-1777910400@discoversevenstones.com
SUMMARY:Dane Overdorf Placement
DESCRIPTION:
URL:https://discoversevenstones.com/event/dane-overdorf-placement/
LOCATION:Seven Stones Chatfield\, 9635 N Rampart Range Rd\, Littleton\, CO\, 80125\, United States
CATEGORIES:Placement Service
END:VEVENT
BEGIN:VEVENT
DTSTART;TZID=America/Denver:20260508T130000
DTEND;TZID=America/Denver:20260508T150000
DTSTAMP:20260425T050719
CREATED:20260330T211348Z
LAST-MODIFIED:20260330T211348Z
UID:10802-1778245200-1778252400@discoversevenstones.com
SUMMARY:Gardens Temporarily Closed For Gianna Barrera Placement
DESCRIPTION:Gardens Temporarily Closed During Memorial Services
URL:https://discoversevenstones.com/event/gardens-temporarily-closed-for-gianna-barrera-placement/
LOCATION:Seven Stones Chatfield\, 9635 N Rampart Range Rd\, Littleton\, CO\, 80125\, United States
CATEGORIES:Placement Service
END:VEVENT
BEGIN:VEVENT
DTSTART;TZID=UTC:20260509T070000
DTEND;TZID=UTC:20260509T160000
DTSTAMP:20260425T050719
CREATED:20260330T214811Z
LAST-MODIFIED:20260424T182234Z
UID:10804-1778310000-1778342400@discoversevenstones.com
SUMMARY:Supporting The 6th Annual Emersyn Ray Aurich Memorial Golf Tournament [Hole #7 Sponsor]
DESCRIPTION:Click on the website below and join Seven Stones in supporting this amazing cause in memory of a special young lady\, Emersyn Aurich. \n2026EmersynsGolf | Powered By GiveSmart \n 
URL:https://discoversevenstones.com/event/6th-annual-emersyn-ray-aurich-memorial-golf-tournament-hole-7-sponsor/
LOCATION:Arrowhead Golf Course\, 10850 Sundown Trail\, Littleton\, CO\, 80125\, United States
END:VEVENT
BEGIN:VEVENT
DTSTART;TZID=America/Denver:20260512T083000
DTEND;TZID=America/Denver:20260512T090000
DTSTAMP:20260425T050719
CREATED:20260424T181719Z
LAST-MODIFIED:20260424T181800Z
UID:10799-1778574600-1778576400@discoversevenstones.com
SUMMARY:Free Scatter Day #2
DESCRIPTION:Gardens Temporarily Closed During Memorial Services
URL:https://discoversevenstones.com/event/free-scatter-day-2/
LOCATION:Seven Stones Chatfield\, 9635 N Rampart Range Rd\, Littleton\, CO\, 80125\, United States
CATEGORIES:Placement Service
END:VEVENT
BEGIN:VEVENT
DTSTART;TZID=America/Denver:20260512T110000
DTEND;TZID=America/Denver:20260512T120000
DTSTAMP:20260425T050719
CREATED:20260424T181919Z
LAST-MODIFIED:20260424T181919Z
UID:10849-1778583600-1778587200@discoversevenstones.com
SUMMARY:Joe & Debra Bergholz Placement
DESCRIPTION:
URL:https://discoversevenstones.com/event/joe-debra-bergholz-placement/
LOCATION:Seven Stones Chatfield\, 9635 N Rampart Range Rd\, Littleton\, CO\, 80125\, United States
CATEGORIES:Placement Service
END:VEVENT
BEGIN:VEVENT
DTSTART;TZID=America/Denver:20260514T110000
DTEND;TZID=America/Denver:20260514T120000
DTSTAMP:20260425T050719
CREATED:20260424T182128Z
LAST-MODIFIED:20260424T182128Z
UID:10851-1778756400-1778760000@discoversevenstones.com
SUMMARY:Vicki Palermo Placement
DESCRIPTION:
URL:https://discoversevenstones.com/event/vicki-palermo-placement/
LOCATION:Seven Stones Chatfield\, 9635 N Rampart Range Rd\, Littleton\, CO\, 80125\, United States
CATEGORIES:Placement Service
END:VEVENT
BEGIN:VEVENT
DTSTART;TZID=UTC:20260516T090000
DTEND;TZID=UTC:20260516T140000
DTSTAMP:20260425T050719
CREATED:20260424T182527Z
LAST-MODIFIED:20260424T183452Z
UID:10854-1778922000-1778940000@discoversevenstones.com
SUMMARY:Supporting The 2nd Annual Prairie Blooms Gardening Event at Pollywog Station Lavendar Farm [Come See Us]
DESCRIPTION:Click on the website below and join Seven Stones at this fun outdoor family friendly event. \nPollywog Station Lavender Farm Events \n 
URL:https://discoversevenstones.com/event/supporting-the-2nd-annual-prairie-blooms-gardening-event-at-pollywog-station-lavendar-farm-come-see-us/
LOCATION:Arrowhead Golf Course\, 10850 Sundown Trail\, Littleton\, CO\, 80125\, United States
END:VEVENT
BEGIN:VEVENT
DTSTART;TZID=UTC:20260519T100000
DTEND;TZID=UTC:20260519T120000
DTSTAMP:20260425T050719
CREATED:20260331T184323Z
LAST-MODIFIED:20260424T201615Z
UID:10807-1779184800-1779192000@discoversevenstones.com
SUMMARY:GARDEN WORKSHOP - Fully Flourished Planting Workshop
DESCRIPTION:Event Will Be Held In The Courtyard and Event Lawn Behind The Office. \nPlease join us for the second in this two-part series to plant the cutting garden!\n***To RSVP for this event please call 303-717-7117 or email info@DiscoverSevenStones.comThis is a Free Event. Please bring water\, gardening gloves and sunscreen!\nNote: Space is limited.
URL:https://discoversevenstones.com/event/garden-workshop-fully-flourished-planting-workshop/
LOCATION:Seven Stones Chatfield\, 9635 N Rampart Range Rd\, Littleton\, CO\, 80125\, United States
CATEGORIES:Gardening Workshop
ATTACH;FMTTYPE=image/jpeg:https://discoversevenstones.com/wp-content/uploads/2026/03/Flourished-Garden-Workshop-2.jpg
ORGANIZER;CN="Seven Stones - Chatfield":MAILTO:info@discoversevenstones.com
END:VEVENT
BEGIN:VEVENT
DTSTART;VALUE=DATE:20260522
DTEND;VALUE=DATE:20260526
DTSTAMP:20260425T050719
CREATED:20260323T192931Z
LAST-MODIFIED:20260323T192931Z
UID:10761-1779408000-1779753599@discoversevenstones.com
SUMMARY:Memorial Day Weekend
DESCRIPTION:Thank you for remembering to only bring Cut Flowers or Small Plants (no silk flowers) to maintain the gorgeous gardens on this hallowed day.
URL:https://discoversevenstones.com/event/memorial-day-weekend/
LOCATION:Seven Stones Chatfield\, 9635 N Rampart Range Rd\, Littleton\, CO\, 80125\, United States
END:VEVENT
BEGIN:VEVENT
DTSTART;TZID=America/Denver:20260529T100000
DTEND;TZID=America/Denver:20260529T140000
DTSTAMP:20260425T050719
CREATED:20260311T213615Z
LAST-MODIFIED:20260311T213615Z
UID:10746-1780048800-1780063200@discoversevenstones.com
SUMMARY:Gardens Temporarily Closed For Karen Will Placement
DESCRIPTION:Gardens Temporarily Closed During Memorial Services
URL:https://discoversevenstones.com/event/gardens-temporarily-closed-for-karen-will-placement/
LOCATION:Seven Stones Chatfield\, 9635 N Rampart Range Rd\, Littleton\, CO\, 80125\, United States
CATEGORIES:Placement Service
END:VEVENT
BEGIN:VEVENT
DTSTART;TZID=UTC:20260603T103000
DTEND;TZID=UTC:20260603T133000
DTSTAMP:20260425T050719
CREATED:20260331T190410Z
LAST-MODIFIED:20260331T191212Z
UID:10811-1780482600-1780493400@discoversevenstones.com
SUMMARY:GARDEN WORKSHOP - Kid's Workshop - Bugs\, Frogs & The Pond
DESCRIPTION:Event Will Be Held In The Shelter And Around The Gardens. \nKiddos love this workshop!! Picnic Lunch And Craft Will Be Provided.\n***To RSVP for this event please call 303-717-7117 or email info@DiscoverSevenStones.comFee: $10/child – paid at signup.\n \nPlease bring water\, gardening gloves and sunscreen!\nNote: Space is limited.
URL:https://discoversevenstones.com/event/garden-workshop-kids-workshop-bugs-frogs-the-pond/
LOCATION:Seven Stones Chatfield\, 9635 N Rampart Range Rd\, Littleton\, CO\, 80125\, United States
CATEGORIES:Gardening Workshop
ATTACH;FMTTYPE=image/jpeg:https://discoversevenstones.com/wp-content/uploads/2026/03/2026-Garden-Workshops-e1774982816227.jpg
ORGANIZER;CN="Seven Stones - Chatfield":MAILTO:info@discoversevenstones.com
END:VEVENT
BEGIN:VEVENT
DTSTART;TZID=America/Denver:20260605T103000
DTEND;TZID=America/Denver:20260605T123000
DTSTAMP:20260425T050719
CREATED:20260424T192749Z
LAST-MODIFIED:20260424T192749Z
UID:10856-1780655400-1780662600@discoversevenstones.com
SUMMARY:Gardens Temporarily Closed For Kyle Bartlett Placement
DESCRIPTION:Gardens Temporarily Closed During Memorial Services
URL:https://discoversevenstones.com/event/gardens-temporarily-closed-for-kyle-bartlett-placement/
LOCATION:Seven Stones Chatfield\, 9635 N Rampart Range Rd\, Littleton\, CO\, 80125\, United States
CATEGORIES:Placement Service
END:VEVENT
BEGIN:VEVENT
DTSTART;TZID=UTC:20260612T163000
DTEND;TZID=UTC:20260612T190000
DTSTAMP:20260425T050719
CREATED:20260331T201327Z
LAST-MODIFIED:20260424T192947Z
UID:10817-1781281800-1781290800@discoversevenstones.com
SUMMARY:TIME & TOGETHERNESS - Summertime Event
DESCRIPTION:Eleven years of FREE\, family-friendly gatherings…open to the public.\nIt is a Time to be Together\, to admire\, laugh and relax in the beautiful surroundings of Seven Stones Botanical Gardens Cemetery.\n \nWe started our Time & Togetherness concept in 2015 after construction was underway\, as a Time to get Together to share stories and grow connections.\nFrom our humble beginnings in December 2015 with 25 of us in the family room of our office during a raging snowstorm…\nit has grown into a full event with live music\, food trucks and giving back to the community!\n \nBring a picnic dinner and enjoy a lovely evening in the gardens.\n \n \nLive Music\nIce Cream from Fat Batter Ice Cream\n  \n \n \n \n \n \nReminder: Seven Stones is a NON-SMOKING\, Pet Friendly facility.
URL:https://discoversevenstones.com/event/time-togetherness-summertime-event-2/
LOCATION:Seven Stones Chatfield\, 9635 N Rampart Range Rd\, Littleton\, CO\, 80125\, United States
CATEGORIES:Festival
ATTACH;FMTTYPE=image/jpeg:https://discoversevenstones.com/wp-content/uploads/2026/03/2026-Garden-Workshops-e1774982816227.jpg
END:VEVENT
BEGIN:VEVENT
DTSTART;TZID=America/Denver:20260616T130000
DTEND;TZID=America/Denver:20260616T143000
DTSTAMP:20260425T050719
CREATED:20260424T193049Z
LAST-MODIFIED:20260424T193049Z
UID:10858-1781614800-1781620200@discoversevenstones.com
SUMMARY:Gardens Temporarily Closed For Bridget Calip Placement
DESCRIPTION:Gardens Temporarily Closed During Memorial Services
URL:https://discoversevenstones.com/event/gardens-temporarily-closed-for-bridget-calip-placement/
LOCATION:Seven Stones Chatfield\, 9635 N Rampart Range Rd\, Littleton\, CO\, 80125\, United States
CATEGORIES:Placement Service
END:VEVENT
END:VCALENDAR