BEGIN:VCALENDAR
VERSION:2.0
PRODID:-//Seven Stones - ECPv6.15.18//NONSGML v1.0//EN
CALSCALE:GREGORIAN
METHOD:PUBLISH
X-ORIGINAL-URL:https://discoversevenstones.com
X-WR-CALDESC:Events for Seven Stones
REFRESH-INTERVAL;VALUE=DURATION:PT1H
X-Robots-Tag:noindex
X-PUBLISHED-TTL:PT1H
BEGIN:VTIMEZONE
TZID:America/Denver
BEGIN:DAYLIGHT
TZOFFSETFROM:-0700
TZOFFSETTO:-0600
TZNAME:MDT
DTSTART:20250309T090000
END:DAYLIGHT
BEGIN:STANDARD
TZOFFSETFROM:-0600
TZOFFSETTO:-0700
TZNAME:MST
DTSTART:20251102T080000
END:STANDARD
BEGIN:DAYLIGHT
TZOFFSETFROM:-0700
TZOFFSETTO:-0600
TZNAME:MDT
DTSTART:20260308T090000
END:DAYLIGHT
BEGIN:STANDARD
TZOFFSETFROM:-0600
TZOFFSETTO:-0700
TZNAME:MST
DTSTART:20261101T080000
END:STANDARD
BEGIN:DAYLIGHT
TZOFFSETFROM:-0700
TZOFFSETTO:-0600
TZNAME:MDT
DTSTART:20270314T090000
END:DAYLIGHT
BEGIN:STANDARD
TZOFFSETFROM:-0600
TZOFFSETTO:-0700
TZNAME:MST
DTSTART:20271107T080000
END:STANDARD
END:VTIMEZONE
BEGIN:VTIMEZONE
TZID:UTC
BEGIN:STANDARD
TZOFFSETFROM:+0000
TZOFFSETTO:+0000
TZNAME:UTC
DTSTART:20250101T000000
END:STANDARD
END:VTIMEZONE
BEGIN:VEVENT
DTSTART;TZID=America/Denver:20260206T133000
DTEND;TZID=America/Denver:20260206T143000
DTSTAMP:20260423T183619
CREATED:20260130T232956Z
LAST-MODIFIED:20260130T232956Z
UID:10692-1770384600-1770388200@discoversevenstones.com
SUMMARY:Gardens Temporarily Closed For James Schneider Placement
DESCRIPTION:Gardens Temporarily Closed During Memorial Services
URL:https://discoversevenstones.com/event/gardens-temporarily-closed-for-james-schneider-placement-2/
LOCATION:Seven Stones Chatfield\, 9635 N Rampart Range Rd\, Littleton\, CO\, 80125\, United States
CATEGORIES:Placement Service
END:VEVENT
BEGIN:VEVENT
DTSTART;TZID=America/Denver:20260211T130000
DTEND;TZID=America/Denver:20260211T140000
DTSTAMP:20260423T183619
CREATED:20260130T232016Z
LAST-MODIFIED:20260130T232016Z
UID:10688-1770814800-1770818400@discoversevenstones.com
SUMMARY:Gardens Temporarily Closed For Patricia Pegg Placement
DESCRIPTION:Gardens Temporarily Closed During Memorial Services
URL:https://discoversevenstones.com/event/gardens-temporarily-closed-for-patricia-pegg-placement/
LOCATION:Seven Stones Chatfield\, 9635 N Rampart Range Rd\, Littleton\, CO\, 80125\, United States
CATEGORIES:Placement Service
END:VEVENT
BEGIN:VEVENT
DTSTART;TZID=UTC:20260212T103000
DTEND;TZID=UTC:20260212T120000
DTSTAMP:20260423T183619
CREATED:20260210T194540Z
LAST-MODIFIED:20260212T165156Z
UID:10696-1770892200-1770897600@discoversevenstones.com
SUMMARY:Gardens Temporarily Closed For Private Burial
DESCRIPTION:Gardens Temporarily Closed During Memorial Services
URL:https://discoversevenstones.com/event/gardens-temporarily-closed-for-private-burial-4/
LOCATION:Seven Stones Chatfield\, 9635 N Rampart Range Rd\, Littleton\, CO\, 80125\, United States
CATEGORIES:Placement Service
END:VEVENT
BEGIN:VEVENT
DTSTART;TZID=America/Denver:20260218T130000
DTEND;TZID=America/Denver:20260218T143000
DTSTAMP:20260423T183619
CREATED:20260212T164655Z
LAST-MODIFIED:20260212T164858Z
UID:10703-1771419600-1771425000@discoversevenstones.com
SUMMARY:Gardens Temporarily Closed For Margaret Rasbury Placement
DESCRIPTION:Gardens Temporarily Closed During Memorial Services
URL:https://discoversevenstones.com/event/gardens-temporarily-closed-for-margaret-rasbury-placement/
LOCATION:Seven Stones Chatfield\, 9635 N Rampart Range Rd\, Littleton\, CO\, 80125\, United States
CATEGORIES:Placement Service
END:VEVENT
BEGIN:VEVENT
DTSTART;TZID=America/Denver:20260220T110000
DTEND;TZID=America/Denver:20260220T120000
DTSTAMP:20260423T183619
CREATED:20260130T231604Z
LAST-MODIFIED:20260130T232714Z
UID:10685-1771585200-1771588800@discoversevenstones.com
SUMMARY:Gardens Temporarily Closed For Karen Dehlin Placement
DESCRIPTION:Gardens Temporarily Closed During Memorial Services
URL:https://discoversevenstones.com/event/gardens-temporarily-closed-for-james-schneider-placement/
LOCATION:Seven Stones Chatfield\, 9635 N Rampart Range Rd\, Littleton\, CO\, 80125\, United States
CATEGORIES:Placement Service
END:VEVENT
BEGIN:VEVENT
DTSTART;TZID=America/Denver:20260220T133000
DTEND;TZID=America/Denver:20260220T150000
DTSTAMP:20260423T183619
CREATED:20260212T165318Z
LAST-MODIFIED:20260212T165318Z
UID:10705-1771594200-1771599600@discoversevenstones.com
SUMMARY:Gardens Temporarily Closed For Flo Britton Placement
DESCRIPTION:Gardens Temporarily Closed During Memorial Services
URL:https://discoversevenstones.com/event/gardens-temporarily-closed-for-flo-britton-placement/
LOCATION:Seven Stones Chatfield\, 9635 N Rampart Range Rd\, Littleton\, CO\, 80125\, United States
CATEGORIES:Placement Service
END:VEVENT
BEGIN:VEVENT
DTSTART;TZID=America/Denver:20260226T140000
DTEND;TZID=America/Denver:20260226T160000
DTSTAMP:20260423T183619
CREATED:20260216T185320Z
LAST-MODIFIED:20260216T185320Z
UID:10714-1772114400-1772121600@discoversevenstones.com
SUMMARY:Gardens Temporarily Closed For Bonnie Hudson Placement
DESCRIPTION:Gardens Temporarily Closed During Memorial Services
URL:https://discoversevenstones.com/event/gardens-temporarily-closed-for-bonnie-hudson-placement/
LOCATION:Seven Stones Chatfield\, 9635 N Rampart Range Rd\, Littleton\, CO\, 80125\, United States
CATEGORIES:Placement Service
END:VEVENT
BEGIN:VEVENT
DTSTART;TZID=America/Denver:20260227T140000
DTEND;TZID=America/Denver:20260227T153000
DTSTAMP:20260423T183619
CREATED:20260212T165549Z
LAST-MODIFIED:20260212T165549Z
UID:10707-1772200800-1772206200@discoversevenstones.com
SUMMARY:Gardens Temporarily Closed For Janet Costas Placement
DESCRIPTION:Gardens Temporarily Closed During Memorial Services
URL:https://discoversevenstones.com/event/gardens-temporarily-closed-for-janet-costas-placement/
LOCATION:Seven Stones Chatfield\, 9635 N Rampart Range Rd\, Littleton\, CO\, 80125\, United States
CATEGORIES:Placement Service
END:VEVENT
END:VCALENDAR