BEGIN:VCALENDAR
VERSION:2.0
PRODID:-//Seven Stones - ECPv6.15.18//NONSGML v1.0//EN
CALSCALE:GREGORIAN
METHOD:PUBLISH
X-ORIGINAL-URL:https://discoversevenstones.com
X-WR-CALDESC:Events for Seven Stones
REFRESH-INTERVAL;VALUE=DURATION:PT1H
X-Robots-Tag:noindex
X-PUBLISHED-TTL:PT1H
BEGIN:VTIMEZONE
TZID:UTC
BEGIN:STANDARD
TZOFFSETFROM:+0000
TZOFFSETTO:+0000
TZNAME:UTC
DTSTART:20240101T000000
END:STANDARD
END:VTIMEZONE
BEGIN:VEVENT
DTSTART;TZID=UTC:20250925T100000
DTEND;TZID=UTC:20250925T120000
DTSTAMP:20260421T210931
CREATED:20250825T215733Z
LAST-MODIFIED:20250903T205837Z
UID:10312-1758794400-1758801600@discoversevenstones.com
SUMMARY:Roxborough Area Historical Society (RAHS) Annual High Line Canal History Walk & Talk
DESCRIPTION:Join RAHS\, Denver Audubon\, and High Line Canal Conservancy at Seven Stones Botanical Gardens Cemetery for our Annual High Line Canal History Walk & Talk.  \n  \nDate and Time: Thursday\, September 25th 10 am – 12 pm \nAddress: 9635 N Rampart Range Rd\, Littleton\, CO 80125 \n  \nWe will start with a presentation at 10 am followed by a Bird Walk along the High Line Canal Trail led by a Denver Audubon Master Birder.  \n  \nWear comfortable shoes\, bring water\, and meet at the orange shade structure at Seven Stones.  \nPlease RSVP by September 19th to:  roxboroughhistory@gmail.com \n 
URL:https://discoversevenstones.com/event/roxborough-area-historical-society-rahs-annual-high-line-canal-history-walk-talk-2/
LOCATION:Seven Stones Chatfield\, 9635 N Rampart Range Rd\, Littleton\, CO\, 80125\, United States
CATEGORIES:High Line Canal Walk & Talk
ATTACH;FMTTYPE=image/png:https://discoversevenstones.com/wp-content/uploads/2025/08/HIGH-LINE-CANAL-FINAL-with-corrected-RSVP-e1756931530697.png
END:VEVENT
END:VCALENDAR