BEGIN:VCALENDAR
VERSION:2.0
PRODID:-//Seven Stones - ECPv6.15.18//NONSGML v1.0//EN
CALSCALE:GREGORIAN
METHOD:PUBLISH
X-WR-CALNAME:Seven Stones
X-ORIGINAL-URL:https://discoversevenstones.com
X-WR-CALDESC:Events for Seven Stones
REFRESH-INTERVAL;VALUE=DURATION:PT1H
X-Robots-Tag:noindex
X-PUBLISHED-TTL:PT1H
BEGIN:VTIMEZONE
TZID:UTC
BEGIN:STANDARD
TZOFFSETFROM:+0000
TZOFFSETTO:+0000
TZNAME:UTC
DTSTART:20230101T000000
END:STANDARD
END:VTIMEZONE
BEGIN:VEVENT
DTSTART;TZID=UTC:20240619T180000
DTEND;TZID=UTC:20240619T190000
DTSTAMP:20260422T225500
CREATED:20240424T021403Z
LAST-MODIFIED:20240425T205116Z
UID:8815-1718820000-1718823600@discoversevenstones.com
SUMMARY:Yoga with Kristin Scott
DESCRIPTION:We are excited and happy to continue our Summer Yoga in June at Seven Stones.\nKristin’s moderate-level hatha yoga class is mindfully paced\, with introspection and an an exploration of the subtle (energetic) body.\nWe are asking that you RSVP for each class you plan to attend (see information below) due to the popularity of these sessions. \nIn addition to your yoga mat\, we recommend a towel\, water\, sunblock\, and layers as needed. Props\, such as a yoga block (or a book 2 inches thick)\, and/or a yoga strap (or a man’s tie) are encouraged.\n \nKristin’s class themes will be based on exploring our chakras (energy centers) from the ground up.\n \n\nOur June theme: Ground & Flow \nOur July theme: Ignite & Expand \nOur August theme: Attune & Perceive\nOur September theme: Witness (yoga and mini meditations)\n\n \n$10/class – payable by Venmo\, cash or check\nWednesdays 6 pm-7 pm with Kristin ScottRSVP to Kristin 720-773-0054\n \nIf we have a WEATHER CANCELLATION\, it will be communicated to those who have RSVPd.\nWe are very much looking forward to a wonderful Summer season in the gardens.
URL:https://discoversevenstones.com/event/yoga-with-kristin-scott-2/
CATEGORIES:outdoor yoga
ATTACH;FMTTYPE=image/jpeg:https://discoversevenstones.com/wp-content/uploads/2024/04/Yoga-with-Kristin-at-Seven-Stones.jpg
END:VEVENT
END:VCALENDAR